BEGIN:VCALENDAR
VERSION:2.0
PRODID:-//Richmond SPCA - ECPv6.15.20//NONSGML v1.0//EN
CALSCALE:GREGORIAN
METHOD:PUBLISH
X-WR-CALNAME:Richmond SPCA
X-ORIGINAL-URL:https://richmondspca.org
X-WR-CALDESC:Events for Richmond SPCA
REFRESH-INTERVAL;VALUE=DURATION:PT1H
X-Robots-Tag:noindex
X-PUBLISHED-TTL:PT1H
BEGIN:VTIMEZONE
TZID:America/New_York
BEGIN:DAYLIGHT
TZOFFSETFROM:-0500
TZOFFSETTO:-0400
TZNAME:EDT
DTSTART:20250309T070000
END:DAYLIGHT
BEGIN:STANDARD
TZOFFSETFROM:-0400
TZOFFSETTO:-0500
TZNAME:EST
DTSTART:20251102T060000
END:STANDARD
BEGIN:DAYLIGHT
TZOFFSETFROM:-0500
TZOFFSETTO:-0400
TZNAME:EDT
DTSTART:20260308T070000
END:DAYLIGHT
BEGIN:STANDARD
TZOFFSETFROM:-0400
TZOFFSETTO:-0500
TZNAME:EST
DTSTART:20261101T060000
END:STANDARD
BEGIN:DAYLIGHT
TZOFFSETFROM:-0500
TZOFFSETTO:-0400
TZNAME:EDT
DTSTART:20270314T070000
END:DAYLIGHT
BEGIN:STANDARD
TZOFFSETFROM:-0400
TZOFFSETTO:-0500
TZNAME:EST
DTSTART:20271107T060000
END:STANDARD
END:VTIMEZONE
BEGIN:VTIMEZONE
TZID:America/Chicago
BEGIN:DAYLIGHT
TZOFFSETFROM:-0600
TZOFFSETTO:-0500
TZNAME:CDT
DTSTART:20250309T080000
END:DAYLIGHT
BEGIN:STANDARD
TZOFFSETFROM:-0500
TZOFFSETTO:-0600
TZNAME:CST
DTSTART:20251102T070000
END:STANDARD
BEGIN:DAYLIGHT
TZOFFSETFROM:-0600
TZOFFSETTO:-0500
TZNAME:CDT
DTSTART:20260308T080000
END:DAYLIGHT
BEGIN:STANDARD
TZOFFSETFROM:-0500
TZOFFSETTO:-0600
TZNAME:CST
DTSTART:20261101T070000
END:STANDARD
BEGIN:DAYLIGHT
TZOFFSETFROM:-0600
TZOFFSETTO:-0500
TZNAME:CDT
DTSTART:20270314T080000
END:DAYLIGHT
BEGIN:STANDARD
TZOFFSETFROM:-0500
TZOFFSETTO:-0600
TZNAME:CST
DTSTART:20271107T070000
END:STANDARD
END:VTIMEZONE
BEGIN:VEVENT
DTSTART;TZID=America/New_York:20260413T000000
DTEND;TZID=America/New_York:20260417T235959
DTSTAMP:20260419T092435
CREATED:20260413T134001Z
LAST-MODIFIED:20260413T135431Z
UID:10000083-1776038400-1776470399@richmondspca.org
SUMMARY:Feline the Sunshine Adoption Special
DESCRIPTION:Spring is in the air\, and we're feline pretty good about it! From April 13 through the 17\, all cat adoptions are 25% off — because every cat deserves a sunny window\, a warm lap\, and a place to call home. \nWhether you're looking for a playful kitten\, a laid-back lounger\, or a chatty companion\, we've got a cat here who's ready to make your house a little brighter. Come meet them during normal shelter hours. \nMeet Our Cats
URL:https://richmondspca.org/upcoming-events/feline-the-sunshine/
LOCATION:Richmond SPCA\, 2519 Hermitage Rd\, Richmond\, VA\, 23220\, United States
CATEGORIES:Adoption Specials
ATTACH;FMTTYPE=image/jpeg:https://richmondspca.org/wp-content/uploads/2026/04/Feline-the-Sunshine-2.jpg
ORGANIZER;CN="Richmond SPCA":MAILTO:info@richmondspca.org
END:VEVENT
BEGIN:VEVENT
DTSTART;TZID=America/Chicago:20260415T180000
DTEND;TZID=America/Chicago:20260415T200000
DTSTAMP:20260419T092435
CREATED:20260108T200502Z
LAST-MODIFIED:20260326T155320Z
UID:10000073-1776276000-1776283200@richmondspca.org
SUMMARY:Introduction to Trap-Neuter-Vaccinate-Return (TNVR)
DESCRIPTION:Through TNVR programs\, community cat populations are humanely managed. Compassionate volunteers trap cats in humane traps\, transport them to a veterinary hospital to be sterilized and vaccinated against rabies and return them to the location where they were trapped. \nThis work improves the lives of free-roaming\, unowned cats by preventing reproduction and addresses public health through vaccination. Learn more about the Richmond SPCA’s TNVR program. \nDuring this training\, Peggy will provide hands-on instruction for those wanting to help community cats through TNVR. \nRegistration for this free workshop is required. Pizza will be provided\, and advance signups ensure we make an accurate order.
URL:https://richmondspca.org/upcoming-events/introduction-to-trap-neuter-vaccinate-return-tnvr/2026-04-15/
LOCATION:Richmond SPCA Auditorium\, 2519 Hermitage Road\, Richmond\, 23220\, United States
CATEGORIES:Community and Advocacy Events
ATTACH;FMTTYPE=image/jpeg:https://richmondspca.org/wp-content/uploads/2026/01/tnvr-2.jpg
ORGANIZER;CN="Richmond SPCA":MAILTO:info@richmondspca.org
END:VEVENT
END:VCALENDAR